BEGIN:VCALENDAR
VERSION:2.0
PRODID:-//Tukios.com/
BEGIN:VEVENT
UID:cc465e11-51ba-4fe2-8913-08b68a997df3@www.artesiafunerals.com
DTSTAMP:20260421T191855Z
DTSTART:20260423T210000Z
DTEND:20260424T000000Z
SUMMARY:Public Viewing
DESCRIPTION:
URL:https://www.artesiafunerals.com/obituaries/bob-plummer
LOCATION: 611 W Grand Ave  Artesia NM 88210
GEO:32.8385995;-104.4045349
END:VEVENT
END:VCALENDAR