BEGIN:VCALENDAR
VERSION:2.0
PRODID:-//Tukios.com/
BEGIN:VEVENT
UID:1cfaeba6-bc30-482f-bf93-76d02169e9a9@www.artesiafunerals.com
DTSTAMP:20260421T191824Z
DTSTART:20260424T160000Z
DTEND:20260424T170000Z
SUMMARY:Memorial Service
DESCRIPTION:
URL:https://www.artesiafunerals.com/obituaries/bob-plummer
LOCATION:First Baptist Church 322 W. Grand Ave.  Artesia NM 88210
GEO:32.8392203;-104.4001514
END:VEVENT
END:VCALENDAR